Package: RforProteomics Version: 1.48.0 Command: /home/biocbuild/bbs-3.22-bioc/R/bin/R CMD build --keep-empty-dirs --no-resave-data RforProteomics StartedAt: 2025-11-13 11:38:16 -0500 (Thu, 13 Nov 2025) EndedAt: 2025-11-13 11:44:38 -0500 (Thu, 13 Nov 2025) EllapsedTime: 382.1 seconds RetCode: 0 Status: OK PackageFile: RforProteomics_1.48.0.tar.gz PackageFileSize: 9.161 MiB