Package: RegParallel Version: 1.28.0 Command: /home/biocbuild/bbs-3.22-bioc/R/bin/R CMD INSTALL RegParallel StartedAt: 2025-11-13 11:04:11 -0500 (Thu, 13 Nov 2025) EndedAt: 2025-11-13 11:04:19 -0500 (Thu, 13 Nov 2025) EllapsedTime: 8.5 seconds RetCode: 0 Status: OK