Package: RegParallel Version: 1.28.0 Command: /home/biocbuild/bbs-3.22-bioc/R/bin/R CMD build --keep-empty-dirs --no-resave-data RegParallel StartedAt: 2025-11-13 11:38:15 -0500 (Thu, 13 Nov 2025) EndedAt: 2025-11-13 11:45:05 -0500 (Thu, 13 Nov 2025) EllapsedTime: 410.2 seconds RetCode: 0 Status: OK PackageFile: RegParallel_1.28.0.tar.gz PackageFileSize: 643.6 KiB