Package: RegParallel
Version: 1.26.0
Command: /home/biocbuild/bbs-3.21-bioc/R/bin/R CMD INSTALL RegParallel
StartedAt: 2025-05-15 10:57:58 -0400 (Thu, 15 May 2025)
EndedAt: 2025-05-15 10:58:07 -0400 (Thu, 15 May 2025)
EllapsedTime: 8.4 seconds
RetCode: 0
Status: OK