Package: RTCGA.rnaseq Version: 20151101.40.0 Command: /home/biocbuild/bbs-3.22-bioc/R/bin/R CMD INSTALL RTCGA.rnaseq StartedAt: 2025-11-13 11:04:33 -0500 (Thu, 13 Nov 2025) EndedAt: 2025-11-13 11:07:16 -0500 (Thu, 13 Nov 2025) EllapsedTime: 163.3 seconds RetCode: 0 Status: OK