Package: RTCGA.rnaseq Version: 20151101.40.0 Command: /home/biocbuild/bbs-3.22-bioc/R/bin/R CMD build --keep-empty-dirs --no-resave-data RTCGA.rnaseq StartedAt: 2025-11-13 11:41:02 -0500 (Thu, 13 Nov 2025) EndedAt: 2025-11-13 11:44:33 -0500 (Thu, 13 Nov 2025) EllapsedTime: 211.3 seconds RetCode: 0 Status: OK PackageFile: RTCGA.rnaseq_20151101.40.0.tar.gz PackageFileSize: 612.6 MiB