Package: RTCGA.mutations Version: 20151101.40.0 Command: /home/biocbuild/bbs-3.22-bioc/R/bin/R CMD INSTALL RTCGA.mutations StartedAt: 2025-11-13 11:04:32 -0500 (Thu, 13 Nov 2025) EndedAt: 2025-11-13 11:07:39 -0500 (Thu, 13 Nov 2025) EllapsedTime: 187.6 seconds RetCode: 0 Status: OK