Package: RTCGA.mutations Version: 20151101.40.0 Command: /home/biocbuild/bbs-3.22-bioc/R/bin/R CMD build --keep-empty-dirs --no-resave-data RTCGA.mutations StartedAt: 2025-11-13 11:40:26 -0500 (Thu, 13 Nov 2025) EndedAt: 2025-11-13 11:43:46 -0500 (Thu, 13 Nov 2025) EllapsedTime: 200.0 seconds RetCode: 0 Status: OK PackageFile: RTCGA.mutations_20151101.40.0.tar.gz PackageFileSize: 103.8 MiB