Package: RTCGA.mutations Version: 20151101.40.0 Maintainer: Marcin Kosinski MaintainerEmail: m.p.kosinski at gmail.com git_url: https://git.bioconductor.org/packages/RTCGA.mutations git_branch: RELEASE_3_22 git_last_commit: 42ce965 git_last_commit_date: 2025-10-29 09:56:52 -0400 (Wed, 29 Oct 2025)