Package: RTCGA.mRNA Version: 1.38.0 Command: /home/biocbuild/bbs-3.22-bioc/R/bin/R CMD INSTALL RTCGA.mRNA StartedAt: 2025-11-13 11:04:30 -0500 (Thu, 13 Nov 2025) EndedAt: 2025-11-13 11:05:03 -0500 (Thu, 13 Nov 2025) EllapsedTime: 32.9 seconds RetCode: 0 Status: OK