Package: RTCGA.clinical Version: 20151101.40.0 Command: /home/biocbuild/bbs-3.22-bioc/R/bin/R CMD INSTALL RTCGA.clinical StartedAt: 2025-11-18 11:05:16 -0500 (Tue, 18 Nov 2025) EndedAt: 2025-11-18 11:05:58 -0500 (Tue, 18 Nov 2025) EllapsedTime: 42.3 seconds RetCode: 0 Status: OK