Package: RTCGA.clinical Version: 20151101.40.0 Command: /home/biocbuild/bbs-3.22-bioc/R/bin/R CMD build --keep-empty-dirs --no-resave-data RTCGA.clinical StartedAt: 2025-11-18 12:03:50 -0500 (Tue, 18 Nov 2025) EndedAt: 2025-11-18 12:04:35 -0500 (Tue, 18 Nov 2025) EllapsedTime: 44.7 seconds RetCode: 0 Status: OK PackageFile: RTCGA.clinical_20151101.40.0.tar.gz PackageFileSize: 13.97 MiB