Package: RTCGA.CNV Version: 1.38.0 Command: /home/biocbuild/bbs-3.22-bioc/R/bin/R CMD INSTALL RTCGA.CNV StartedAt: 2025-11-13 11:04:24 -0500 (Thu, 13 Nov 2025) EndedAt: 2025-11-13 11:04:42 -0500 (Thu, 13 Nov 2025) EllapsedTime: 17.7 seconds RetCode: 0 Status: OK