Package: RNAseqData.HNRNPC.bam.chr14 Version: 0.48.0 Command: /home/biocbuild/bbs-3.22-bioc/R/bin/R CMD INSTALL RNAseqData.HNRNPC.bam.chr14 StartedAt: 2025-11-13 10:55:46 -0500 (Thu, 13 Nov 2025) EndedAt: 2025-11-13 10:55:48 -0500 (Thu, 13 Nov 2025) EllapsedTime: 2.0 seconds RetCode: 0 Status: OK