Package: RNAseqData.HNRNPC.bam.chr14 Version: 0.48.0 Maintainer: Hervé Pagès MaintainerEmail: hpages.on.github at gmail.com git_url: https://git.bioconductor.org/packages/RNAseqData.HNRNPC.bam.chr14 git_branch: RELEASE_3_22 git_last_commit: 986efa9 git_last_commit_date: 2025-10-29 09:53:28 -0500 (Wed, 29 Oct 2025)