Package: RGMQLlib Version: 1.28.0 Command: /home/biocbuild/bbs-3.21-bioc/R/bin/R CMD build --keep-empty-dirs --no-resave-data RGMQLlib StartedAt: 2025-10-16 11:35:26 -0400 (Thu, 16 Oct 2025) EndedAt: 2025-10-16 11:35:38 -0400 (Thu, 16 Oct 2025) EllapsedTime: 11.8 seconds RetCode: 0 Status: OK PackageFile: RGMQLlib_1.28.0.tar.gz PackageFileSize: 86.08 MiB