Package: RGMQLlib Version: 1.28.0 Maintainer: Simone Pallotta MaintainerEmail: simonepallotta at hotmail.com git_url: https://git.bioconductor.org/packages/RGMQLlib git_branch: RELEASE_3_21 git_last_commit: 939d464 git_last_commit_date: 2025-04-15 10:10:17 -0400 (Tue, 15 Apr 2025)