Package: QDNAseq.mm10 Version: 1.40.0 Command: /home/biocbuild/bbs-3.22-bioc/R/bin/R CMD INSTALL QDNAseq.mm10 StartedAt: 2025-11-13 11:02:45 -0500 (Thu, 13 Nov 2025) EndedAt: 2025-11-13 11:02:58 -0500 (Thu, 13 Nov 2025) EllapsedTime: 12.6 seconds RetCode: 0 Status: OK