Package: ProData Version: 1.48.0 Command: /home/biocbuild/bbs-3.22-bioc/R/bin/R CMD build --keep-empty-dirs --no-resave-data ProData StartedAt: 2025-11-13 11:36:45 -0500 (Thu, 13 Nov 2025) EndedAt: 2025-11-13 11:36:48 -0500 (Thu, 13 Nov 2025) EllapsedTime: 2.4 seconds RetCode: 0 Status: OK PackageFile: ProData_1.48.0.tar.gz PackageFileSize: 19.05 MiB