Package: PhyloProfileData Version: 1.24.0 Command: /home/biocbuild/bbs-3.22-bioc/R/bin/R CMD INSTALL PhyloProfileData StartedAt: 2025-11-13 10:57:48 -0500 (Thu, 13 Nov 2025) EndedAt: 2025-11-13 10:58:02 -0500 (Thu, 13 Nov 2025) EllapsedTime: 13.5 seconds RetCode: 0 Status: OK