Package: PhyloProfileData Version: 1.24.0 Command: /home/biocbuild/bbs-3.22-bioc/R/bin/R CMD build --keep-empty-dirs --no-resave-data PhyloProfileData StartedAt: 2025-11-13 11:36:18 -0500 (Thu, 13 Nov 2025) EndedAt: 2025-11-13 11:36:51 -0500 (Thu, 13 Nov 2025) EllapsedTime: 33.2 seconds RetCode: 0 Status: OK PackageFile: PhyloProfileData_1.24.0.tar.gz PackageFileSize: 228 KiB