Package: PasillaTranscriptExpr Version: 1.38.0 Command: /home/biocbuild/bbs-3.22-bioc/R/bin/R CMD check --install=check:PasillaTranscriptExpr.install-out.txt --library=/home/biocbuild/bbs-3.22-bioc/R/site-library --timings PasillaTranscriptExpr_1.38.0.tar.gz StartedAt: 2025-11-13 12:55:06 -0500 (Thu, 13 Nov 2025) EndedAt: 2025-11-13 12:55:29 -0500 (Thu, 13 Nov 2025) EllapsedTime: 23.0 seconds RetCode: 0 Status: OK CheckDir: PasillaTranscriptExpr.Rcheck Warnings: 0