Package: PasillaTranscriptExpr Version: 1.36.0 Command: /home/biocbuild/bbs-3.21-bioc/R/bin/R CMD build --keep-empty-dirs --no-resave-data PasillaTranscriptExpr StartedAt: 2025-10-16 11:32:40 -0400 (Thu, 16 Oct 2025) EndedAt: 2025-10-16 11:32:56 -0400 (Thu, 16 Oct 2025) EllapsedTime: 16.6 seconds RetCode: 0 Status: OK PackageFile: PasillaTranscriptExpr_1.36.0.tar.gz PackageFileSize: 784.4 KiB