Package: OnassisJavaLibs Version: 1.32.0 Command: /home/biocbuild/bbs-3.22-bioc/R/bin/R CMD check --install=check:OnassisJavaLibs.install-out.txt --library=/home/biocbuild/bbs-3.22-bioc/R/site-library --timings OnassisJavaLibs_1.32.0.tar.gz StartedAt: 2025-11-13 12:54:27 -0500 (Thu, 13 Nov 2025) EndedAt: 2025-11-13 12:55:06 -0500 (Thu, 13 Nov 2025) EllapsedTime: 39.3 seconds RetCode: 0 Status: OK CheckDir: OnassisJavaLibs.Rcheck Warnings: 0