Package: NetActivityData Version: 1.12.0 Command: /home/biocbuild/bbs-3.22-bioc/R/bin/R CMD INSTALL NetActivityData StartedAt: 2025-11-13 10:55:54 -0500 (Thu, 13 Nov 2025) EndedAt: 2025-11-13 10:55:58 -0500 (Thu, 13 Nov 2025) EllapsedTime: 4.3 seconds RetCode: 0 Status: OK