Package: NetActivityData Version: 1.12.0 Command: /home/biocbuild/bbs-3.22-bioc/R/bin/R CMD build --keep-empty-dirs --no-resave-data NetActivityData StartedAt: 2025-11-13 11:34:08 -0500 (Thu, 13 Nov 2025) EndedAt: 2025-11-13 11:34:23 -0500 (Thu, 13 Nov 2025) EllapsedTime: 14.3 seconds RetCode: 0 Status: OK PackageFile: NetActivityData_1.12.0.tar.gz PackageFileSize: 5.269 MiB