Package: MouseGastrulationData Version: 1.24.0 Command: /home/biocbuild/bbs-3.22-bioc/R/bin/R CMD build --keep-empty-dirs --no-resave-data MouseGastrulationData StartedAt: 2025-11-13 11:31:55 -0500 (Thu, 13 Nov 2025) EndedAt: 2025-11-13 11:33:15 -0500 (Thu, 13 Nov 2025) EllapsedTime: 80.1 seconds RetCode: 0 Status: OK PackageFile: MouseGastrulationData_1.24.0.tar.gz PackageFileSize: 507.6 KiB