Package: MouseAgingData Version: 1.6.0 Command: /home/biocbuild/bbs-3.22-bioc/R/bin/R CMD build --keep-empty-dirs --no-resave-data MouseAgingData StartedAt: 2025-11-13 11:31:51 -0500 (Thu, 13 Nov 2025) EndedAt: 2025-11-13 11:32:59 -0500 (Thu, 13 Nov 2025) EllapsedTime: 67.7 seconds RetCode: 0 Status: OK PackageFile: MouseAgingData_1.6.0.tar.gz PackageFileSize: 1.35 MiB