Package: MicrobiomeBenchmarkData Version: 1.12.0 Command: /home/biocbuild/bbs-3.22-bioc/R/bin/R CMD INSTALL MicrobiomeBenchmarkData StartedAt: 2025-11-13 10:58:57 -0500 (Thu, 13 Nov 2025) EndedAt: 2025-11-13 10:59:28 -0500 (Thu, 13 Nov 2025) EllapsedTime: 30.3 seconds RetCode: 0 Status: OK