Package: MicrobiomeBenchmarkData Version: 1.12.0 Command: /home/biocbuild/bbs-3.22-bioc/R/bin/R CMD build --keep-empty-dirs --no-resave-data MicrobiomeBenchmarkData StartedAt: 2025-11-13 11:30:57 -0500 (Thu, 13 Nov 2025) EndedAt: 2025-11-13 11:31:58 -0500 (Thu, 13 Nov 2025) EllapsedTime: 61.6 seconds RetCode: 0 Status: OK PackageFile: MicrobiomeBenchmarkData_1.12.0.tar.gz PackageFileSize: 712.4 KiB