Package: MethylAidData Version: 1.42.0 Command: /home/biocbuild/bbs-3.22-bioc/R/bin/R CMD INSTALL MethylAidData StartedAt: 2025-11-13 11:01:35 -0500 (Thu, 13 Nov 2025) EndedAt: 2025-11-13 11:02:07 -0500 (Thu, 13 Nov 2025) EllapsedTime: 31.6 seconds RetCode: 0 Status: OK