Package: MethylAidData Version: 1.42.0 Command: /home/biocbuild/bbs-3.22-bioc/R/bin/R CMD build --keep-empty-dirs --no-resave-data MethylAidData StartedAt: 2025-11-13 11:30:34 -0500 (Thu, 13 Nov 2025) EndedAt: 2025-11-13 11:31:10 -0500 (Thu, 13 Nov 2025) EllapsedTime: 36.1 seconds RetCode: 0 Status: OK PackageFile: MethylAidData_1.42.0.tar.gz PackageFileSize: 20.97 MiB