Package: MUGAExampleData Version: 1.30.0 Command: /home/biocbuild/bbs-3.22-bioc/R/bin/R CMD build --keep-empty-dirs --no-resave-data MUGAExampleData StartedAt: 2025-11-13 11:32:59 -0500 (Thu, 13 Nov 2025) EndedAt: 2025-11-13 11:33:10 -0500 (Thu, 13 Nov 2025) EllapsedTime: 10.9 seconds RetCode: 0 Status: OK PackageFile: MUGAExampleData_1.30.0.tar.gz PackageFileSize: 88.65 MiB