Package: MOFAdata Version: 1.26.0 Command: /home/biocbuild/bbs-3.22-bioc/R/bin/R CMD INSTALL MOFAdata StartedAt: 2025-11-13 10:55:16 -0500 (Thu, 13 Nov 2025) EndedAt: 2025-11-13 10:55:27 -0500 (Thu, 13 Nov 2025) EllapsedTime: 11.6 seconds RetCode: 0 Status: OK