Package: MMDiffBamSubset Version: 1.46.0 Command: /home/biocbuild/bbs-3.22-bioc/R/bin/R CMD build --keep-empty-dirs --no-resave-data MMDiffBamSubset StartedAt: 2025-11-13 11:31:39 -0500 (Thu, 13 Nov 2025) EndedAt: 2025-11-13 11:32:17 -0500 (Thu, 13 Nov 2025) EllapsedTime: 37.8 seconds RetCode: 0 Status: OK PackageFile: MMDiffBamSubset_1.46.0.tar.gz PackageFileSize: 632.3 MiB