Package: MMDiffBamSubset Version: 1.46.0 Maintainer: Gabriele Schweikert MaintainerEmail: G.Schweikert at ed.ac.uk git_url: https://git.bioconductor.org/packages/MMDiffBamSubset git_branch: RELEASE_3_22 git_last_commit: 6bd89ce git_last_commit_date: 2025-10-29 09:53:20 -0500 (Wed, 29 Oct 2025)