Package: M3DExampleData Version: 1.36.0 Command: /home/biocbuild/bbs-3.22-bioc/R/bin/R CMD INSTALL M3DExampleData StartedAt: 2025-11-13 10:55:41 -0500 (Thu, 13 Nov 2025) EndedAt: 2025-11-13 10:55:43 -0500 (Thu, 13 Nov 2025) EllapsedTime: 2.0 seconds RetCode: 0 Status: OK