Package: LungCancerLines Version: 0.48.0 Command: /home/biocbuild/bbs-3.22-bioc/R/bin/R CMD INSTALL LungCancerLines StartedAt: 2025-11-13 11:00:45 -0500 (Thu, 13 Nov 2025) EndedAt: 2025-11-13 11:00:56 -0500 (Thu, 13 Nov 2025) EllapsedTime: 11.0 seconds RetCode: 0 Status: OK