Package: LegATo Version: 1.4.0 Command: /home/biocbuild/bbs-3.22-bioc/R/bin/R CMD INSTALL LegATo StartedAt: 2025-11-13 11:04:33 -0500 (Thu, 13 Nov 2025) EndedAt: 2025-11-13 11:04:53 -0500 (Thu, 13 Nov 2025) EllapsedTime: 20.0 seconds RetCode: 0 Status: OK