Package: JASPAR2016 Version: 1.38.0 Command: /home/biocbuild/bbs-3.22-bioc/R/bin/R CMD INSTALL JASPAR2016 StartedAt: 2025-11-13 10:55:58 -0500 (Thu, 13 Nov 2025) EndedAt: 2025-11-13 10:56:03 -0500 (Thu, 13 Nov 2025) EllapsedTime: 5.0 seconds RetCode: 0 Status: OK