Package: JASPAR2016 Version: 1.38.0 Command: /home/biocbuild/bbs-3.22-bioc/R/bin/R CMD build --keep-empty-dirs --no-resave-data JASPAR2016 StartedAt: 2025-11-13 11:26:07 -0500 (Thu, 13 Nov 2025) EndedAt: 2025-11-13 11:26:13 -0500 (Thu, 13 Nov 2025) EllapsedTime: 5.3 seconds RetCode: 0 Status: OK PackageFile: JASPAR2016_1.38.0.tar.gz PackageFileSize: 8.715 MiB