Package: JASPAR2014 Version: 1.46.0 Command: /home/biocbuild/bbs-3.22-bioc/R/bin/R CMD INSTALL JASPAR2014 StartedAt: 2025-11-13 10:56:34 -0500 (Thu, 13 Nov 2025) EndedAt: 2025-11-13 10:57:05 -0500 (Thu, 13 Nov 2025) EllapsedTime: 30.9 seconds RetCode: 0 Status: OK