Package: IlluminaDataTestFiles Version: 1.48.0 Command: /home/biocbuild/bbs-3.22-bioc/R/bin/R CMD build --keep-empty-dirs --no-resave-data IlluminaDataTestFiles StartedAt: 2025-11-13 11:25:22 -0500 (Thu, 13 Nov 2025) EndedAt: 2025-11-13 11:25:25 -0500 (Thu, 13 Nov 2025) EllapsedTime: 3.3 seconds RetCode: 0 Status: OK PackageFile: IlluminaDataTestFiles_1.48.0.tar.gz PackageFileSize: 23.69 MiB