Package: IHWpaper Version: 1.38.0 Command: /home/biocbuild/bbs-3.22-bioc/R/bin/R CMD INSTALL IHWpaper StartedAt: 2025-11-13 11:02:46 -0500 (Thu, 13 Nov 2025) EndedAt: 2025-11-13 11:03:23 -0500 (Thu, 13 Nov 2025) EllapsedTime: 37.2 seconds RetCode: 0 Status: OK