Package: HumanAffyData Version: 1.36.0 Command: /home/biocbuild/bbs-3.22-bioc/R/bin/R CMD build --keep-empty-dirs --no-resave-data HumanAffyData StartedAt: 2025-11-13 11:24:53 -0500 (Thu, 13 Nov 2025) EndedAt: 2025-11-13 11:25:18 -0500 (Thu, 13 Nov 2025) EllapsedTime: 24.9 seconds RetCode: 0 Status: OK PackageFile: HumanAffyData_1.36.0.tar.gz PackageFileSize: 157.5 KiB