Package: HighlyReplicatedRNASeq Version: 1.22.0 Command: /home/biocbuild/bbs-3.22-bioc/R/bin/R CMD INSTALL HighlyReplicatedRNASeq StartedAt: 2025-11-13 11:00:10 -0500 (Thu, 13 Nov 2025) EndedAt: 2025-11-13 11:00:38 -0500 (Thu, 13 Nov 2025) EllapsedTime: 28.0 seconds RetCode: 0 Status: OK