Package: HiCDataLymphoblast Version: 1.46.0 Command: /home/biocbuild/bbs-3.22-bioc/R/bin/R CMD build --keep-empty-dirs --no-resave-data HiCDataLymphoblast StartedAt: 2025-11-25 11:23:41 -0500 (Tue, 25 Nov 2025) EndedAt: 2025-11-25 11:24:12 -0500 (Tue, 25 Nov 2025) EllapsedTime: 31.6 seconds RetCode: 0 Status: OK PackageFile: HiCDataLymphoblast_1.46.0.tar.gz PackageFileSize: 16.52 MiB