Package: HiCDataHumanIMR90 Version: 1.30.0 Command: /home/biocbuild/bbs-3.22-bioc/R/bin/R CMD build --keep-empty-dirs --no-resave-data HiCDataHumanIMR90 StartedAt: 2025-11-13 11:23:59 -0500 (Thu, 13 Nov 2025) EndedAt: 2025-11-13 11:24:47 -0500 (Thu, 13 Nov 2025) EllapsedTime: 47.8 seconds RetCode: 0 Status: OK PackageFile: HiCDataHumanIMR90_1.30.0.tar.gz PackageFileSize: 70.64 MiB