Package: HiCDataHumanIMR90 Version: 1.30.0 Maintainer: Nicolas Servant MaintainerEmail: Nicolas.Servant at curie.fr git_url: https://git.bioconductor.org/packages/HiCDataHumanIMR90 git_branch: RELEASE_3_22 git_last_commit: 7f037ad git_last_commit_date: 2025-10-29 09:55:32 -0400 (Wed, 29 Oct 2025)