Package: HiBED Version: 1.8.0 Command: /home/biocbuild/bbs-3.22-bioc/R/bin/R CMD INSTALL HiBED StartedAt: 2025-11-13 11:03:47 -0500 (Thu, 13 Nov 2025) EndedAt: 2025-11-13 11:04:30 -0500 (Thu, 13 Nov 2025) EllapsedTime: 43.4 seconds RetCode: 0 Status: OK